BEGIN:VCALENDAR
PRODID:NingEventWidget-v1
VERSION:2.0
METHOD:PUBLISH
BEGIN:VTIMEZONE
TZID:Indian/Reunion
X-LIC-LOCATION:Indian/Reunion
BEGIN:STANDARD
TZOFFSETFROM:+0400
TZOFFSETTO:+0400
TZNAME:RET
DTSTART:19700101T000000
END:STANDARD
END:VTIMEZONE
BEGIN:VEVENT
UID:2816864:Event:5636
DTSTAMP:20260423T200508Z
SUMMARY:Art competition in Luxembourg:Art as Research
DESCRIPTION:On June 25th 2009, CULTUREINSIDE.COM and Galerie Clairefon
 taine will inaugurate an international art exhibition entitled \"Roote
 d\". The show will consist of works by artists chosen competitively by
  a curatorial committee. The theme of the exhibition is an investigati
 on, a visualization, a materialization or conceptualization of the ter
 m \"rooted\". What is formative, grounding, or sustaining, for us as w
 omen, men, artists or citizens? What are, Where are, How are we rooted
  in the world ? Philosophically, phenomenologically, psychologically o
 r spiritually, it is a thorny and complex issue. We are sure these que
 stions can be addressed by artists in novel and interesting ways. The 
 curators do not want to particularize the theme or parse it beyond a b
 asic statement. We believe that the less said on the topic the better.
  Artists can identify or define it as they see fit. The organizers ask
  that works or proposals relating to the theme be submitted in a CULTU
 REINSIDE online gallery for competition (see how to apply). The curato
 rs will review up to 8 images from artists applying to participate. Ar
 tists using any visual media are welcome to participate. Winners of th
 e competition will be honored and can win prizes as listed in the call
  description. Winning entries will be selected for physical exhibition
  in the gallery, other finalists' work will be selected for the online
  show and catalog. Additional proposal for works will also be entertai
 ned and exhibited at other spaces throughout the city. by Frank Shifre
 en, New York\n\nFor more information visit https://kkartlab.in/events/
 art-competition-in
DTSTART;TZID=Indian/Reunion:20090625T180000
DTEND;TZID=Indian/Reunion:20090731T190000
CATEGORIES:art, exhibition, and, compeitition
LOCATION:Luxembourg Europe
WEBSITE:http://www.cultureinside.com/en/rooted.aspx
URL:http://www.cultureinside.com/en/rooted.aspx
CONTACT:
ORGANIZER;CN="Frank Shifreen":https://kkartlab.in/profile/FrankShifree
 n
ATTACH;FMTTYPE="image/jpeg":
ATTENDEE;ROLE=REQ-PARTICIPANT;PARTSTAT=ACCEPTED;RSVP=TRUE;CN="Raj more
 ":https://kkartlab.in/profile/Rajmore
ATTENDEE;ROLE=REQ-PARTICIPANT;PARTSTAT=ACCEPTED;RSVP=TRUE;CN="Gurukink
 ar Dhang":https://kkartlab.in/profile/GurukinkarDhang
ATTENDEE;ROLE=REQ-PARTICIPANT;PARTSTAT=ACCEPTED;RSVP=TRUE;CN="Frank Sh
 ifreen":https://kkartlab.in/profile/FrankShifreen
ATTENDEE;ROLE=REQ-PARTICIPANT;PARTSTAT=TENTATIVE;RSVP=TRUE;CN="Shailen
 dra Tiwari":https://kkartlab.in/profile/ShailendraTiwari
END:VEVENT
END:VCALENDAR
