BEGIN:VCALENDAR
PRODID:NingEventWidget-v1
VERSION:2.0
METHOD:PUBLISH
BEGIN:VTIMEZONE
TZID:Indian/Reunion
X-LIC-LOCATION:Indian/Reunion
BEGIN:STANDARD
TZOFFSETFROM:+0400
TZOFFSETTO:+0400
TZNAME:RET
DTSTART:19700101T000000
END:STANDARD
END:VTIMEZONE
BEGIN:VEVENT
UID:2816864:Event:16278
DTSTAMP:20260423T225714Z
SUMMARY:Exhibion of Paolo di Tonto and Giuseppe Nubila
DESCRIPTION:Titolo dell’evento: La trascendenza del Reale\nArtista: 
 Paolo Di Tonto e Giuseppe Nubila\nSpazio espositivo : Castello Aldobra
 ndesco Collacchioni‎\n\nData di vernissage: 14 luglio\nData di chius
 ura: 20 luglio\nwww.comune.capalbio.gr.it\nCapalbio Ufficio Informazio
 ni ed accoglienza turistica, Castello di Capalbio tel. 0564.895611, Vi
 a Collacchioni, 2, 58011 Capalbio, Grosseto\nAbstract di presentazione
 :\nDi Tonto e Nubila hanno ereditato dalle ultime avanguardie la capac
 ità “nomadica” di servirsi senza timidezza delle proposte stilist
 iche del passato, fondendo linguaggi e, soprattutto liberandosi del pr
 egiudizio che vuole l’antifigurazione come un criterio per misurare 
 modernità e sincerità d’intenti. La loro scelta di narrare e rappr
 esentare, in più, non è solo esibizione tecnica ma risponde a un int
 imo bisogno di trasmettere qualcosa del proprio ordine interiore e, pe
 rciò, la loro opera non è solo un prodotto commerciale, un oggetto, 
 ma è soprattutto una comunione con lo spettatore.\n\nOrari di apertur
 a:10-12.30 e 17.30-23\nIngresso libero\nOrario di vernissage: 18,00\n\
 nCuratrice : Tiziana Di Bartolomeo\nUfficio stampa: ufficiostampa@espr
 essionidarte.it ;\nwww.espressionidarte.it\nTesto critico di presentaz
 ione:\ntesto di Gianluca Tedaldi\n\nFor more information visit https:/
 /kkartlab.in/events/exhibion-of-paolo-di-tonto-and
DTSTART;TZID=Indian/Reunion:20090714T180000
DTEND;TZID=Indian/Reunion:20090720T190000
CATEGORIES:painting, exhibition
LOCATION:Aldobrandesco Collacchioni‎'s Castle
WEBSITE:http://www.espressionidarte.it
URL:http://www.espressionidarte.it
CONTACT:0564.895611
ORGANIZER;CN="Tiziana Di Bartolomeo":https://kkartlab.in/profile/Tizia
 naDiBartolomeo
ATTACH;FMTTYPE="image/jpeg":http://storage.ning.com/topology/rest/1.0/
 file/get/3018288869?profile=original
ATTENDEE;ROLE=REQ-PARTICIPANT;PARTSTAT=ACCEPTED;RSVP=TRUE;CN="Tiziana 
 Di Bartolomeo":https://kkartlab.in/profile/TizianaDiBartolomeo
END:VEVENT
END:VCALENDAR
