BEGIN:VCALENDAR
PRODID:NingEventWidget-v1
VERSION:2.0
METHOD:PUBLISH
BEGIN:VTIMEZONE
TZID:Indian/Reunion
X-LIC-LOCATION:Indian/Reunion
BEGIN:STANDARD
TZOFFSETFROM:+0400
TZOFFSETTO:+0400
TZNAME:RET
DTSTART:19700101T000000
END:STANDARD
END:VTIMEZONE
BEGIN:VEVENT
UID:2816864:Event:16290
DTSTAMP:20260423T213502Z
SUMMARY:Solo exhibiton of Michela Lenzi
DESCRIPTION:Titolo dell’evento: Personale\nArtista:\nMichela Lenzi\n
 Data di evento: 11 luglio 2009\nData di chiusura: 30 agosto 2009\nPala
 zzo Abadessa • Calle Priuli, Cannaregio 4011, 30131 Venezia, Italia 
 • Tel. +39.041.2413784 • Fax +39.041.5212236 •\ninfo@abadessa.co
 m www.abadessa.com\n348.3635723\nAbstract di presentazione:\nL’ambit
 o della produzione della pittrice romana è abbastanza ben delimitabil
 e: le interessa la Natura; gli insegnamenti di Enzo Brunori l’hanno 
 indirizzata verso una concezione dell’immagine che sta sul crinale t
 ra figurativo ed astratto. Le sue raffigurazioni di scorci paesaggisti
 ci, scorci di mare e profondità marine, sono tratte da immagini ogget
 tive, fotografie che vengono poi sottoposte ad una particolare elabora
 zione che tende ad eliminare tutto ciò che risulti troppo descrittivo
 . Questo processo di astrazione si realizza nel taglio compositivo (sp
 esso dato dalla scelta di un particolare che occupa l’intero spazio 
 pittorico) e nella tecnica. Gianluca Tedaldi\nA ben vedere dunque le o
 pere sono ben orchestrate nei corposi striti cromatici, nei toni e in 
 intensità che va a digradare significatamente verso l’alto, mai aff
 idati al caso come l’action painting, con una resa espressiva animat
 a da matura consapevolezza attraverso un modellato morbido, quasi ovat
 tato, che coinvolge psicologicamente il potenziale osservatore. Mario 
 Di Cara\n\nOrari di apertura: 10-21\nIngresso libero\nOrario di presen
 tazione: 18,00\nCuratrice : Tiziana Di Bartolomeo\nUfficio stampa:\nuf
 ficiostampa@espressionidarte.it ;\nwww.espressionidarte.it\nmichy_weba
 rt@virgilio.it\n\nOrganizzazione:\nberardo@tecnolayout.it\nbbsarredi@y
 ahoo.it\n\nTesto critico di presentazione:\ntesto di Gianluca Tedaldi 
 e Mario Di Cara\n\nFor more information visit https://kkartlab.in/even
 ts/solo-exhibiton-of-michela
DTSTART;TZID=Indian/Reunion:20090711T180000
DTEND;TZID=Indian/Reunion:20090830T190000
CATEGORIES:painting, exhibition
LOCATION:Palazzo Abadessa
WEBSITE:http://www.espressionidarte.it
URL:http://www.espressionidarte.it
CONTACT:348.3635723
ORGANIZER;CN="Tiziana Di Bartolomeo":https://kkartlab.in/profile/Tizia
 naDiBartolomeo
ATTACH;FMTTYPE="image/jpeg":http://storage.ning.com/topology/rest/1.0/
 file/get/3018289427?profile=original
ATTENDEE;ROLE=REQ-PARTICIPANT;PARTSTAT=ACCEPTED;RSVP=TRUE;CN="Tiziana 
 Di Bartolomeo":https://kkartlab.in/profile/TizianaDiBartolomeo
END:VEVENT
END:VCALENDAR
