BEGIN:VCALENDAR
PRODID:NingEventWidget-v1
VERSION:2.0
METHOD:PUBLISH
BEGIN:VTIMEZONE
TZID:Indian/Reunion
X-LIC-LOCATION:Indian/Reunion
BEGIN:STANDARD
TZOFFSETFROM:+0400
TZOFFSETTO:+0400
TZNAME:RET
DTSTART:19700101T000000
END:STANDARD
END:VTIMEZONE
BEGIN:VEVENT
UID:2816864:Event:18654
DTSTAMP:20260424T000222Z
SUMMARY:SPREAD, a group exhibition of paintings
DESCRIPTION:\nExhibition Invitation.docParticipating Artists:\nAmar De
 y, Karunamoy Sur, Alok Kr. Sardar, Arun Mondal, Dipankar Biswas, Praba
 l Roy, Tanmoy Roychowdhury, Surajit Sarkar, Purnendu, Chandan Debnath,
  Mohini Biswas , Barun Roy, Alok Roy, Subrata Biswas\n\nFor more infor
 mation visit https://kkartlab.in/events/spread-a-group-exhibition-of
DTSTART;TZID=Indian/Reunion:20090721T000000
DTEND;TZID=Indian/Reunion:20090726T235900
CATEGORIES:exhibition
LOCATION:Birla Academy of Art & Culture
WEBSITE:http://...
URL:http://...
CONTACT:...
ORGANIZER;CN="KARUNAMOY SUR":https://kkartlab.in/profile/KARUNAMOYSUR
ATTACH;FMTTYPE="image/jpeg":http://storage.ning.com/topology/rest/1.0/
 file/get/2879956293?profile=original
ATTENDEE;ROLE=REQ-PARTICIPANT;PARTSTAT=ACCEPTED;RSVP=TRUE;CN="Goutam S
 arma":https://kkartlab.in/profile/GoutamSarma
ATTENDEE;ROLE=REQ-PARTICIPANT;PARTSTAT=ACCEPTED;RSVP=TRUE;CN="KARUNAMO
 Y SUR":https://kkartlab.in/profile/KARUNAMOYSUR
END:VEVENT
END:VCALENDAR
